BEGIN:VCALENDAR
VERSION:2.0
PRODID:-//Vernon Public Art Gallery - ECPv6.15.20//NONSGML v1.0//EN
CALSCALE:GREGORIAN
METHOD:PUBLISH
X-ORIGINAL-URL:https://vernonpublicartgallery.com
X-WR-CALDESC:Events for Vernon Public Art Gallery
REFRESH-INTERVAL;VALUE=DURATION:PT1H
X-Robots-Tag:noindex
X-PUBLISHED-TTL:PT1H
BEGIN:VTIMEZONE
TZID:America/Vancouver
BEGIN:DAYLIGHT
TZOFFSETFROM:-0800
TZOFFSETTO:-0700
TZNAME:PDT
DTSTART:20240310T100000
END:DAYLIGHT
BEGIN:STANDARD
TZOFFSETFROM:-0700
TZOFFSETTO:-0800
TZNAME:PST
DTSTART:20241103T090000
END:STANDARD
BEGIN:DAYLIGHT
TZOFFSETFROM:-0800
TZOFFSETTO:-0700
TZNAME:PDT
DTSTART:20250309T100000
END:DAYLIGHT
BEGIN:STANDARD
TZOFFSETFROM:-0700
TZOFFSETTO:-0800
TZNAME:PST
DTSTART:20251102T090000
END:STANDARD
BEGIN:DAYLIGHT
TZOFFSETFROM:-0800
TZOFFSETTO:-0700
TZNAME:PDT
DTSTART:20260308T100000
END:DAYLIGHT
BEGIN:STANDARD
TZOFFSETFROM:-0700
TZOFFSETTO:-0800
TZNAME:PST
DTSTART:20261101T090000
END:STANDARD
END:VTIMEZONE
BEGIN:VEVENT
DTSTART;TZID=America/Vancouver:20250725T100000
DTEND;TZID=America/Vancouver:20250924T170000
DTSTAMP:20260423T212346
CREATED:20250627T202845Z
LAST-MODIFIED:20260402T174736Z
UID:10000178-1753437600-1758733200@vernonpublicartgallery.com
SUMMARY:Leaving Home
DESCRIPTION:Rhonda Neufeld\n\n\n\nTopham Brown Memorial GalleryJuly 25 to September 24\, 2025 \n\n\n\nOpening Reception: July 24 from 6-8 PMArtist Demo: September 5 from 1-3 PM (part of First Friday’s Art Trail)Artist Talk: September 11 from 6-7 PM \n\n\n\n\n    \n        Exhibition Publication    \n\n\n\nIn Leaving Home\, artist Rhonda Neufeld shares a deeply personal body of work that reflects on her connection to the landscape she called home for over 40 years. Through walking\, touching\, and closely observing the natural world around her\, Neufeld captures the details of place—tree bark\, stone surfaces\, shifting light—and translates them into prints that hold both memory and presence. \n\n\n\nUsing traditional printmaking techniques\, Neufeld makes rubbings directly from trees and rocks\, transferring those impressions onto copper plates\, wood blocks\, and lithographic stones. The result is a series of works that feel both grounded and poetic\, inviting viewers to slow down and experience the land in a more intimate way. \n\n\n\nThis exhibition is a quiet celebration of place\, a reflection on the joy of being close to nature\, and a way of saying goodbye to a landscape that shaped a lifetime of artmaking. \n\n\n\nPhotography: Digital Perfections \n\n\n \n\n\n\n        \n        \n                            \n                    \n                        \n                    \n                \n                            \n                    \n                        \n                    \n                \n                            \n                    \n                        \n                    \n                \n                            \n                    \n                        \n                    \n                \n                            \n                    \n                        \n                    \n                \n                            \n                    \n                        \n                    \n                \n                            \n                    \n                        \n                    \n                \n                            \n                    \n                        \n                    \n                \n                            \n                    \n                        \n                    \n                \n                    \n\n        \n            \n\n\n \n\n\n\n\n\n\n\n \n\n\n\n\n\n\n    Current Exhibitions\n    \n        \n            \n                                    \n                        any\n                    \n                            \n        \n    \n    \n                    \n                \n                                                                                                    \n        \n            \n                \n            \n            \n                                    \n                        \n                        June 25\, 2026                     \n                                \n                    MEA Auction Preview\n                \n                The full 2026 collection of artworks generously donated by local… \n                \n                                            Read More\n                                    \n            \n        \n    \n                                                        \n        \n            \n                \n            \n            \n                                    \n                        \n                        May 29\, 2026                     \n                                \n                    Through Our Eyes\n                \n                Teen Junction \n                \n                                            Read More\n                                    \n            \n        \n    \n                                                        \n        \n            \n                \n            \n            \n                                    \n                        \n                        May 29\, 2026                     \n                                \n                    Emergence\n                \n                Select graduating students from the University of British Columbia Okanagan’s… \n                \n                                            Read More\n                                    \n            \n        \n    \n                                                        \n        \n            \n                \n            \n            \n                                    \n                        \n                        May 29\, 2026                     \n                                \n                    Fireline Kinship\n                \n                Taylor Baptiste \n                \n                                            Read More
URL:https://vernonpublicartgallery.com/event/rhonda-neufeld-leaving-home
CATEGORIES:2025,Exhibitions
ATTACH;FMTTYPE=image/jpeg:https://vernonpublicartgallery.com/wordpress/wp-content/uploads/2025/06/01.-R.-Neufeld-Shrine-hi-res-3-scaled.jpg
END:VEVENT
END:VCALENDAR