BEGIN:VCALENDAR
VERSION:2.0
PRODID:-//Vernon Public Art Gallery - ECPv6.15.20//NONSGML v1.0//EN
CALSCALE:GREGORIAN
METHOD:PUBLISH
X-WR-CALNAME:Vernon Public Art Gallery
X-ORIGINAL-URL:https://vernonpublicartgallery.com
X-WR-CALDESC:Events for Vernon Public Art Gallery
REFRESH-INTERVAL;VALUE=DURATION:PT1H
X-Robots-Tag:noindex
X-PUBLISHED-TTL:PT1H
BEGIN:VTIMEZONE
TZID:America/Vancouver
BEGIN:DAYLIGHT
TZOFFSETFROM:-0800
TZOFFSETTO:-0700
TZNAME:PDT
DTSTART:20250309T100000
END:DAYLIGHT
BEGIN:STANDARD
TZOFFSETFROM:-0700
TZOFFSETTO:-0800
TZNAME:PST
DTSTART:20251102T090000
END:STANDARD
BEGIN:DAYLIGHT
TZOFFSETFROM:-0800
TZOFFSETTO:-0700
TZNAME:PDT
DTSTART:20260308T100000
END:DAYLIGHT
BEGIN:STANDARD
TZOFFSETFROM:-0700
TZOFFSETTO:-0800
TZNAME:PST
DTSTART:20261101T090000
END:STANDARD
BEGIN:DAYLIGHT
TZOFFSETFROM:-0800
TZOFFSETTO:-0700
TZNAME:PDT
DTSTART:20270314T100000
END:DAYLIGHT
BEGIN:STANDARD
TZOFFSETFROM:-0700
TZOFFSETTO:-0800
TZNAME:PST
DTSTART:20271107T090000
END:STANDARD
END:VTIMEZONE
BEGIN:VEVENT
DTSTART;TZID=America/Vancouver:20260626T100000
DTEND;TZID=America/Vancouver:20260711T160000
DTSTAMP:20260425T071600
CREATED:20260331T234308Z
LAST-MODIFIED:20260424T184356Z
UID:10000251-1782468000-1783785600@vernonpublicartgallery.com
SUMMARY:MEA Auction Preview
DESCRIPTION:Community GalleryJune 25 – July 11\, 2026 \n\n\n\nOpening Reception: June 25 from 6 to 8 pm \n\n\n\nThe MEA Auction Preview offers a first look at the full collection of artworks generously donated by local and regional artists in support of the Vernon Public Art Gallery’s annual MEA fundraising auction. \n\n\n\nInstalled in the gallery throughout the month leading up to the event\, this exhibition invites visitors to experience the artworks in person\, explore a wide range of creative practices\, and learn more about the participating artists. Whether you’re a seasoned collector or a first-time bidder\, the preview provides the perfect opportunity to plan your bids in advance and support the arts in your community. \n\n\n\nDon’t miss this chance to discover new artists\, connect with the gallery\, and help ensure the continued success of one of VPAG’s most important fundraising events of the year!
URL:https://vernonpublicartgallery.com/event/mea-auction-preview
CATEGORIES:2026,Exhibitions
ATTACH;FMTTYPE=image/webp:https://vernonpublicartgallery.com/wordpress/wp-content/uploads/2026/04/MEA-Exhibition-Website-Featured-Image-1.webp
END:VEVENT
END:VCALENDAR